BEGIN:VCALENDAR
VERSION:2.0
PRODID:-//3nity.com//3nity CMS//EN
BEGIN:VEVENT
SUMMARY:Victory For Vets We Care Wednesday with the Syracuse Mets
UID:2026-07-18-1215065@www.victory4vets.com
SEQUENCE:0
STATUS:CONFIRMED
DTSTART:20260506T183500
DTEND:20260506T223500
DTSTAMP:20161222T120000
LOCATION: NBT Stadium, 1 Tex Simone Dr, Syracuse, NY 13208
DESCRIPTION:Join us on May 6th at NBT Stadium for the Syracuse Met's We Care Wednesday Game!
URL:http://www.victory4vets.com
END:VEVENT
END:VCALENDAR
